BEGIN:VCALENDAR
VERSION:2.0
PRODID:-//The Historic Brown County Art Gallery · Nashville, Indiana - ECPv6.15.11//NONSGML v1.0//EN
CALSCALE:GREGORIAN
METHOD:PUBLISH
X-ORIGINAL-URL:https://browncountyartgallery.org
X-WR-CALDESC:Events for The Historic Brown County Art Gallery · Nashville, Indiana
REFRESH-INTERVAL;VALUE=DURATION:PT1H
X-Robots-Tag:noindex
X-PUBLISHED-TTL:PT1H
BEGIN:VTIMEZONE
TZID:America/Indiana/Indianapolis
BEGIN:DAYLIGHT
TZOFFSETFROM:-0500
TZOFFSETTO:-0400
TZNAME:EDT
DTSTART:20230312T070000
END:DAYLIGHT
BEGIN:STANDARD
TZOFFSETFROM:-0400
TZOFFSETTO:-0500
TZNAME:EST
DTSTART:20231105T060000
END:STANDARD
BEGIN:DAYLIGHT
TZOFFSETFROM:-0500
TZOFFSETTO:-0400
TZNAME:EDT
DTSTART:20240310T070000
END:DAYLIGHT
BEGIN:STANDARD
TZOFFSETFROM:-0400
TZOFFSETTO:-0500
TZNAME:EST
DTSTART:20241103T060000
END:STANDARD
BEGIN:DAYLIGHT
TZOFFSETFROM:-0500
TZOFFSETTO:-0400
TZNAME:EDT
DTSTART:20250309T070000
END:DAYLIGHT
BEGIN:STANDARD
TZOFFSETFROM:-0400
TZOFFSETTO:-0500
TZNAME:EST
DTSTART:20251102T060000
END:STANDARD
END:VTIMEZONE
BEGIN:VEVENT
DTSTART;TZID=America/Indiana/Indianapolis:20240608T080000
DTEND;TZID=America/Indiana/Indianapolis:20240713T170000
DTSTAMP:20260424T155422
CREATED:20240316T132622Z
LAST-MODIFIED:20240316T132622Z
UID:1215-1717833600-1720890000@browncountyartgallery.org
SUMMARY:46th Annual Indiana Heritage Arts Exhibition and Sale
DESCRIPTION:Celebrating 45 years\, the Indiana Heritage Arts Annual Exhibition and Sale is one of the state’s largest fine art exhibitions. The exhibit is open during regular Gallery hours.
URL:https://browncountyartgallery.org/event/46th-annual-indiana-heritage-arts-exhibition-and-sale/
LOCATION:Brown County Art Gallery\, One Artist Drive\, Nashville\, Indiana\, 47448
CATEGORIES:exhibits
ATTACH;FMTTYPE=image/jpeg:https://browncountyartgallery.org/wp-content/uploads/0099-2024-Exhibition-1920x1080-1-scaled.jpg
ORGANIZER;CN="The Historic Brown County Art Gallery":MAILTO:brncagal@gmail.com
END:VEVENT
END:VCALENDAR