BEGIN:VCALENDAR
VERSION:2.0
PRODID:-//The Historic Brown County Art Gallery · Nashville, Indiana - ECPv6.15.11//NONSGML v1.0//EN
CALSCALE:GREGORIAN
METHOD:PUBLISH
X-ORIGINAL-URL:https://browncountyartgallery.org
X-WR-CALDESC:Events for The Historic Brown County Art Gallery · Nashville, Indiana
REFRESH-INTERVAL;VALUE=DURATION:PT1H
X-Robots-Tag:noindex
X-PUBLISHED-TTL:PT1H
BEGIN:VTIMEZONE
TZID:America/Indiana/Indianapolis
BEGIN:DAYLIGHT
TZOFFSETFROM:-0500
TZOFFSETTO:-0400
TZNAME:EDT
DTSTART:20240310T070000
END:DAYLIGHT
BEGIN:STANDARD
TZOFFSETFROM:-0400
TZOFFSETTO:-0500
TZNAME:EST
DTSTART:20241103T060000
END:STANDARD
BEGIN:DAYLIGHT
TZOFFSETFROM:-0500
TZOFFSETTO:-0400
TZNAME:EDT
DTSTART:20250309T070000
END:DAYLIGHT
BEGIN:STANDARD
TZOFFSETFROM:-0400
TZOFFSETTO:-0500
TZNAME:EST
DTSTART:20251102T060000
END:STANDARD
BEGIN:DAYLIGHT
TZOFFSETFROM:-0500
TZOFFSETTO:-0400
TZNAME:EDT
DTSTART:20260308T070000
END:DAYLIGHT
BEGIN:STANDARD
TZOFFSETFROM:-0400
TZOFFSETTO:-0500
TZNAME:EST
DTSTART:20261101T060000
END:STANDARD
END:VTIMEZONE
BEGIN:VEVENT
DTSTART;VALUE=DATE:20251004
DTEND;VALUE=DATE:20251117
DTSTAMP:20260423T195521
CREATED:20250623T141306Z
LAST-MODIFIED:20250922T141105Z
UID:1629-1759536000-1763337599@browncountyartgallery.org
SUMMARY:Collector's Showcase 2025 – The House of the Singing Winds En Homage
DESCRIPTION:Official Grand Opening\nSaturday\, October 4\n\nDoors open 5:00 pm\nExhibit opens\nWine and Food all evening\nPlay sitting #1\n6:00 pm\n30 minutes\nPlay sitting #2\n7:00 pm\n30 minutes\nReservations required\n$45.00 per person\n\nCall Gallery to RSVP (812) 988-4609 or email brncagal@gmail.com.\nPay in advance or at the door. \nSunday\, October 5\n\nDoors open at Noon\nPlay 2:00 pm\nAdmission $10\nReservations requested\nLight refreshments\nGroup rates available\n\nSaturday\, Oct 11\n\nDoors open at Noon\n$10 admission\nReservations requested\nLight refreshments\nGroup rates available\n2:00 pm\n“Selma and the Painter”\nOne act play starring Jill Tasker. The love story that led to an Art Colony\n2:45 pm\n“Tour the Exhibit with the Artists.”\nC.W. Mundy and Rita Spalding walk visitors through the “House of the Singing Winds en Homage” exhibit and share their 3 year journey painting the iconic art sanctuary.\n\nSunday\, October 12\n\nDoors open at Noon\n$10 admission\nReservations requested\nLight refreshments\nGroup rates available\n2:00 pm\n“Selma and the Painter”\nA one act play starring Jill Tasker\,. the love story that led to an Art Colony.\nIncludes the exhibit\n“House of the Singing Winds: en Homage”\n\nSunday\, October 19\n\nDoors open at Noon\, Free admission\n2:00 pm\n“The Gardener and the Artist” with Rita Spalding\nA special program on painting Selma Steele’s Garden in the wilderness and the restoration that brought it back to life. Rita is not only a floral painter\, but a floral expert with beautiful gardens of her own and a history of knowledge on rare varieties. Enjoy her work and ask your gardening questions. \nMake your reservations by calling the Brown County Art Gallery (812) 988-4609 or reserve by email and pay at the door brncagal@gmail.com\n\nWeek day hours\n\nOctober 13 through November 16\n10-5pm\nFree Admission
URL:https://browncountyartgallery.org/event/collectors-showcase-2025/
LOCATION:Brown County Art Gallery\, One Artist Drive\, Nashville\, Indiana\, 47448
CATEGORIES:Collectors' Showcase,exhibits
ATTACH;FMTTYPE=image/webp:https://browncountyartgallery.org/wp-content/uploads/2025-Collectors-Showcase-Poster.webp
END:VEVENT
END:VCALENDAR