BEGIN:VCALENDAR
VERSION:2.0
PRODID:-//The Historic Brown County Art Gallery · Nashville, Indiana - ECPv6.15.11//NONSGML v1.0//EN
CALSCALE:GREGORIAN
METHOD:PUBLISH
X-WR-CALNAME:The Historic Brown County Art Gallery · Nashville, Indiana
X-ORIGINAL-URL:https://browncountyartgallery.org
X-WR-CALDESC:Events for The Historic Brown County Art Gallery · Nashville, Indiana
REFRESH-INTERVAL;VALUE=DURATION:PT1H
X-Robots-Tag:noindex
X-PUBLISHED-TTL:PT1H
BEGIN:VTIMEZONE
TZID:America/Indiana/Indianapolis
BEGIN:DAYLIGHT
TZOFFSETFROM:-0500
TZOFFSETTO:-0400
TZNAME:EDT
DTSTART:20210314T070000
END:DAYLIGHT
BEGIN:STANDARD
TZOFFSETFROM:-0400
TZOFFSETTO:-0500
TZNAME:EST
DTSTART:20211107T060000
END:STANDARD
BEGIN:DAYLIGHT
TZOFFSETFROM:-0500
TZOFFSETTO:-0400
TZNAME:EDT
DTSTART:20220313T070000
END:DAYLIGHT
BEGIN:STANDARD
TZOFFSETFROM:-0400
TZOFFSETTO:-0500
TZNAME:EST
DTSTART:20221106T060000
END:STANDARD
BEGIN:DAYLIGHT
TZOFFSETFROM:-0500
TZOFFSETTO:-0400
TZNAME:EDT
DTSTART:20230312T070000
END:DAYLIGHT
BEGIN:STANDARD
TZOFFSETFROM:-0400
TZOFFSETTO:-0500
TZNAME:EST
DTSTART:20231105T060000
END:STANDARD
BEGIN:DAYLIGHT
TZOFFSETFROM:-0500
TZOFFSETTO:-0400
TZNAME:EDT
DTSTART:20240310T070000
END:DAYLIGHT
BEGIN:STANDARD
TZOFFSETFROM:-0400
TZOFFSETTO:-0500
TZNAME:EST
DTSTART:20241103T060000
END:STANDARD
BEGIN:DAYLIGHT
TZOFFSETFROM:-0500
TZOFFSETTO:-0400
TZNAME:EDT
DTSTART:20250309T070000
END:DAYLIGHT
BEGIN:STANDARD
TZOFFSETFROM:-0400
TZOFFSETTO:-0500
TZNAME:EST
DTSTART:20251102T060000
END:STANDARD
END:VTIMEZONE
BEGIN:VEVENT
DTSTART;VALUE=DATE:20240720
DTEND;VALUE=DATE:20240819
DTSTAMP:20260423T133914
CREATED:20240620T130703Z
LAST-MODIFIED:20240620T130703Z
UID:1365-1721433600-1724025599@browncountyartgallery.org
SUMMARY:Printmakers Get Their Due
DESCRIPTION:This popular exhibit features work created by Indiana’s best printmakers. From modern to traditional\, printmaking has a history in Brown County dating back to 1910.\nEnjoy work by the early printmakers hanging with work by today’s top practitioners\, whose dazzling prints are for sale! Part of any proceeds will benefit the Brown County Art Gallery Foundation. \nOpening Reception is Saturday\, July 20th from 5:30 pm – 8:30 pm. Food and wine will be available. This is a chance to meet the artists. \nReservations required. $25 per person. \nCall or email the Gallery to reserve your tickets at (812) 988-4609 or brncagal@gmail.com.
URL:https://browncountyartgallery.org/event/printmakers-get-their-due/
LOCATION:Brown County Art Gallery\, One Artist Drive\, Nashville\, Indiana\, 47448
CATEGORIES:exhibits
ATTACH;FMTTYPE=image/webp:https://browncountyartgallery.org/wp-content/uploads/Printmakers-get-their-Due-.webp
END:VEVENT
BEGIN:VEVENT
DTSTART;TZID=America/Indiana/Indianapolis:20240608T080000
DTEND;TZID=America/Indiana/Indianapolis:20240713T170000
DTSTAMP:20260423T133914
CREATED:20240316T132622Z
LAST-MODIFIED:20240316T132622Z
UID:1215-1717833600-1720890000@browncountyartgallery.org
SUMMARY:46th Annual Indiana Heritage Arts Exhibition and Sale
DESCRIPTION:Celebrating 45 years\, the Indiana Heritage Arts Annual Exhibition and Sale is one of the state’s largest fine art exhibitions. The exhibit is open during regular Gallery hours.
URL:https://browncountyartgallery.org/event/46th-annual-indiana-heritage-arts-exhibition-and-sale/
LOCATION:Brown County Art Gallery\, One Artist Drive\, Nashville\, Indiana\, 47448
CATEGORIES:exhibits
ATTACH;FMTTYPE=image/jpeg:https://browncountyartgallery.org/wp-content/uploads/0099-2024-Exhibition-1920x1080-1-scaled.jpg
ORGANIZER;CN="The Historic Brown County Art Gallery":MAILTO:brncagal@gmail.com
END:VEVENT
BEGIN:VEVENT
DTSTART;TZID=America/Indiana/Indianapolis:20240413T100000
DTEND;TZID=America/Indiana/Indianapolis:20240512T170000
DTSTAMP:20260423T133914
CREATED:20240316T131909Z
LAST-MODIFIED:20240604T191505Z
UID:1211-1713002400-1715533200@browncountyartgallery.org
SUMMARY:26th Annual Mabel B. Annis Student Art Competition and Show
DESCRIPTION:This annual student art competition features works by 7th – 12th-grade art students from Bartholomew\, Brown\, Greene\, Jackson\, Johnson\, Morgan\, and Monroe County schools. Home school students may participate if they are under the guidance of a licensed Art Teacher.\n\nThe Competition is judged and includes six categories:\nPainting | Drawing | 3-D | Print | Photography | Video \n\nTeachers\, please email brncagal@gmail.com with your intent to participate by March 25th. Please email a list of your participating artists by no later than April 1st.\nThere will be over $2500 awarded in prize money and Indiana Heritage Arts will be presenting a “$250 IHA Teacher of the Year” award in both the Junior High and Senior High Divisions. In addition\, a stipend will be awarded to every participating teacher. \nReception and awards will be on Sunday\, April 14th at 2:00 pm with awards presented at 3:00 pm
URL:https://browncountyartgallery.org/event/26th-annual-mabel-b-annis-student-art-competition-and-show/
LOCATION:Brown County Art Gallery\, One Artist Drive\, Nashville\, Indiana\, 47448
CATEGORIES:exhibits,receptions
ATTACH;FMTTYPE=image/jpeg:https://browncountyartgallery.org/wp-content/uploads/4609-2024-Annis-FB-event-TV-slide-scaled.jpg
ORGANIZER;CN="The Historic Brown County Art Gallery":MAILTO:brncagal@gmail.com
END:VEVENT
BEGIN:VEVENT
DTSTART;VALUE=DATE:20231007
DTEND;VALUE=DATE:20231113
DTSTAMP:20260423T133914
CREATED:20221231T183802Z
LAST-MODIFIED:20221231T183802Z
UID:800-1696636800-1699833599@browncountyartgallery.org
SUMMARY:2023 Collectors' Showcase: Rita Spalding
DESCRIPTION:A showcase of works by artist Rita Spalding. Available for viewing during regular Gallery hours.
URL:https://browncountyartgallery.org/event/2023-collectors-showcase-rita-spalding/
LOCATION:Brown County Art Gallery\, One Artist Drive\, Nashville\, Indiana\, 47448
CATEGORIES:Collectors' Showcase,exhibits
END:VEVENT
BEGIN:VEVENT
DTSTART;VALUE=DATE:20230826
DTEND;VALUE=DATE:20230925
DTSTAMP:20260423T133914
CREATED:20221231T183205Z
LAST-MODIFIED:20221231T183205Z
UID:796-1693008000-1695599999@browncountyartgallery.org
SUMMARY:Nancy Noël: Fall Exhibition and Sale
DESCRIPTION:Fall exhibition of the works of Nancy Noël\, one of Indiana’s most esteemed painters. Offering a selection of original paintings and museum grade reproductions for purchase.
URL:https://browncountyartgallery.org/event/nancy-noel-fall-exhibition-and-sale/
LOCATION:Brown County Art Gallery\, One Artist Drive\, Nashville\, Indiana\, 47448
CATEGORIES:exhibits
END:VEVENT
BEGIN:VEVENT
DTSTART;VALUE=DATE:20230825
DTEND;VALUE=DATE:20230924
DTSTAMP:20260423T133914
CREATED:20221231T183528Z
LAST-MODIFIED:20221231T183528Z
UID:798-1692921600-1695513599@browncountyartgallery.org
SUMMARY:Friends of T. C. Steele Member Art Show
DESCRIPTION:Exhibition of works created by members of the Friends of T. C. Steele. Available for viewing during regular Gallery hours.
URL:https://browncountyartgallery.org/event/friends-of-t-c-steele-member-art-show/
LOCATION:Brown County Art Gallery\, One Artist Drive\, Nashville\, Indiana\, 47448
CATEGORIES:exhibits
END:VEVENT
BEGIN:VEVENT
DTSTART;VALUE=DATE:20230722
DTEND;VALUE=DATE:20230821
DTSTAMP:20260423T133914
CREATED:20221231T183037Z
LAST-MODIFIED:20221231T183037Z
UID:794-1689984000-1692575999@browncountyartgallery.org
SUMMARY:Indiana Printmakers Get Their Due
DESCRIPTION:Exhibit and sale of works by contemporary printmakers from across Indiana. Open to the public during regular Gallery hours.
URL:https://browncountyartgallery.org/event/indiana-printmakers-get-their-due-2/
LOCATION:Brown County Art Gallery\, One Artist Drive\, Nashville\, Indiana\, 47448
CATEGORIES:exhibits
END:VEVENT
BEGIN:VEVENT
DTSTART;VALUE=DATE:20230610
DTEND;VALUE=DATE:20230709
DTSTAMP:20260423T133914
CREATED:20221231T182635Z
LAST-MODIFIED:20221231T182635Z
UID:788-1686355200-1688860799@browncountyartgallery.org
SUMMARY:45th Annual IHA Exhibition and Sale
DESCRIPTION:Celebrating 45 years\, the Indiana Heritage Arts annual Exhibition and Sale is one of the state’s largest fine art exhibitions. Exhibit open during regular Gallery hours.
URL:https://browncountyartgallery.org/event/45th-annual-iha-exhibition-and-sale/
LOCATION:Brown County Art Gallery\, One Artist Drive\, Nashville\, Indiana\, 47448
CATEGORIES:exhibits
ATTACH;FMTTYPE=image/jpeg:https://browncountyartgallery.org/wp-content/uploads/0099-2023-Exhibition-square.jpg
END:VEVENT
BEGIN:VEVENT
DTSTART;VALUE=DATE:20230408
DTEND;VALUE=DATE:20230515
DTSTAMP:20260423T133914
CREATED:20221231T182221Z
LAST-MODIFIED:20230408T151147Z
UID:786-1680912000-1684108799@browncountyartgallery.org
SUMMARY:Mabel B. Annis Student Art Competition
DESCRIPTION:Works by student artists from over seven Indiana junior and senior high schools in painting\, drawing\, printmaking\, 3-D\, video and photography will be on display. Download the program to see all of the winners. \nOpening reception April 8 · 1:30 – 4 pm
URL:https://browncountyartgallery.org/event/2023-annis-exhibit/
LOCATION:Brown County Art Gallery\, One Artist Drive\, Nashville\, Indiana\, 47448
CATEGORIES:exhibits,receptions
ATTACH;FMTTYPE=image/jpeg:https://browncountyartgallery.org/wp-content/uploads/4609-021423-Annis-square-1.jpg
END:VEVENT
BEGIN:VEVENT
DTSTART;VALUE=DATE:20230401
DTEND;VALUE=DATE:20230515
DTSTAMP:20260423T133914
CREATED:20221231T182022Z
LAST-MODIFIED:20230301T155008Z
UID:784-1680307200-1684108799@browncountyartgallery.org
SUMMARY:Nancy Noël: Spring Flowers\, Summer Breezes
DESCRIPTION:Join us for an exhibition of the works of Nancy Noël\, one of Indiana’s most esteemed painters. Offering a selection of original paintings and museum grade reproductions featuring Noël’s spring and summer scenes. Available for viewing during regular Gallery hours.
URL:https://browncountyartgallery.org/event/nancy-noel-spring-flowers-summer-breezes/
LOCATION:Brown County Art Gallery\, One Artist Drive\, Nashville\, Indiana\, 47448
CATEGORIES:exhibits
ATTACH;FMTTYPE=image/jpeg:https://browncountyartgallery.org/wp-content/uploads/4609-021423-Nancy-Noel-Spring-Exhibit-square.jpg
END:VEVENT
BEGIN:VEVENT
DTSTART;VALUE=DATE:20230201
DTEND;VALUE=DATE:20230401
DTSTAMP:20260423T133914
CREATED:20221231T181059Z
LAST-MODIFIED:20221231T181749Z
UID:781-1675209600-1680307199@browncountyartgallery.org
SUMMARY:Permanent Collections on Exhibit
DESCRIPTION:Tour the Gallery’s permanent collections\, including works by William Zimmerman\, Glenn Cooper Henshaw and Gustave Baumann. Available for viewing during regular Gallery hours.
URL:https://browncountyartgallery.org/event/permanent-collections-on-exhibit/
LOCATION:Brown County Art Gallery\, One Artist Drive\, Nashville\, Indiana\, 47448
CATEGORIES:exhibits
END:VEVENT
BEGIN:VEVENT
DTSTART;VALUE=DATE:20221001
DTEND;VALUE=DATE:20221114
DTSTAMP:20260423T133914
CREATED:20220826T120834Z
LAST-MODIFIED:20220826T120834Z
UID:578-1664582400-1668383999@browncountyartgallery.org
SUMMARY:Family Treasures Exhibit & Sale
DESCRIPTION:Featuring a selection of consignment art by early Indiana artists.
URL:https://browncountyartgallery.org/event/family-treasures-exhibit-sale/
LOCATION:Brown County Art Gallery\, One Artist Drive\, Nashville\, Indiana\, 47448
CATEGORIES:exhibits
ATTACH;FMTTYPE=image/jpeg:https://browncountyartgallery.org/wp-content/uploads/4609-Family-Treasures-2022-sq-1080x1080-1.jpg
END:VEVENT
BEGIN:VEVENT
DTSTART;VALUE=DATE:20220723
DTEND;VALUE=DATE:20220822
DTSTAMP:20260423T133914
CREATED:20220804T233325Z
LAST-MODIFIED:20220804T234932Z
UID:106-1658534400-1661126399@browncountyartgallery.org
SUMMARY:Indiana Printmakers Get Their Due
DESCRIPTION:Exhibit and sale of works by contemporary printmakers from across Indiana.\nOpen to the public during regular Gallery hours.
URL:https://browncountyartgallery.org/event/indiana-printmakers-get-their-due/
LOCATION:Brown County Art Gallery\, One Artist Drive\, Nashville\, Indiana\, 47448
CATEGORIES:exhibits
ATTACH;FMTTYPE=image/jpeg:https://browncountyartgallery.org/wp-content/uploads/4609-2022-Indiana-Printmakers-square-1080x1080-1.jpg
END:VEVENT
END:VCALENDAR