BEGIN:VCALENDAR
VERSION:2.0
PRODID:-//The Historic Brown County Art Gallery · Nashville, Indiana - ECPv6.15.11//NONSGML v1.0//EN
CALSCALE:GREGORIAN
METHOD:PUBLISH
X-ORIGINAL-URL:https://browncountyartgallery.org
X-WR-CALDESC:Events for The Historic Brown County Art Gallery · Nashville, Indiana
REFRESH-INTERVAL;VALUE=DURATION:PT1H
X-Robots-Tag:noindex
X-PUBLISHED-TTL:PT1H
BEGIN:VTIMEZONE
TZID:America/Indiana/Indianapolis
BEGIN:DAYLIGHT
TZOFFSETFROM:-0500
TZOFFSETTO:-0400
TZNAME:EDT
DTSTART:20230312T070000
END:DAYLIGHT
BEGIN:STANDARD
TZOFFSETFROM:-0400
TZOFFSETTO:-0500
TZNAME:EST
DTSTART:20231105T060000
END:STANDARD
BEGIN:DAYLIGHT
TZOFFSETFROM:-0500
TZOFFSETTO:-0400
TZNAME:EDT
DTSTART:20240310T070000
END:DAYLIGHT
BEGIN:STANDARD
TZOFFSETFROM:-0400
TZOFFSETTO:-0500
TZNAME:EST
DTSTART:20241103T060000
END:STANDARD
BEGIN:DAYLIGHT
TZOFFSETFROM:-0500
TZOFFSETTO:-0400
TZNAME:EDT
DTSTART:20250309T070000
END:DAYLIGHT
BEGIN:STANDARD
TZOFFSETFROM:-0400
TZOFFSETTO:-0500
TZNAME:EST
DTSTART:20251102T060000
END:STANDARD
BEGIN:DAYLIGHT
TZOFFSETFROM:-0500
TZOFFSETTO:-0400
TZNAME:EDT
DTSTART:20260308T070000
END:DAYLIGHT
BEGIN:STANDARD
TZOFFSETFROM:-0400
TZOFFSETTO:-0500
TZNAME:EST
DTSTART:20261101T060000
END:STANDARD
END:VTIMEZONE
BEGIN:VEVENT
DTSTART;VALUE=DATE:20250601
DTEND;VALUE=DATE:20250602
DTSTAMP:20260423T122247
CREATED:20241114T190340Z
LAST-MODIFIED:20250128T130713Z
UID:1567-1748736000-1748822399@browncountyartgallery.org
SUMMARY:Make Art\, Make Friends: Celebratory Exhibition
DESCRIPTION:
URL:https://browncountyartgallery.org/event/make-art-make-friends-celebratory-exhibition/
LOCATION:Brown County Art Gallery\, One Artist Drive\, Nashville\, Indiana\, 47448
CATEGORIES:exhibits,Make Art
ATTACH;FMTTYPE=image/webp:https://browncountyartgallery.org/wp-content/uploads/Make-Art-Make-Friends-2025-flyer.webp
END:VEVENT
BEGIN:VEVENT
DTSTART;TZID=America/Indiana/Indianapolis:20250501T100000
DTEND;TZID=America/Indiana/Indianapolis:20250501T140000
DTSTAMP:20260423T122247
CREATED:20241114T190117Z
LAST-MODIFIED:20250128T130702Z
UID:1565-1746093600-1746108000@browncountyartgallery.org
SUMMARY:Make Art\, Make Friends: Master Copy
DESCRIPTION:Classes will be Tuesdays and Thursdays from 10 a.m. to 2 p.m.\nMay 1\, 6\, 8\, 13\, 15\, 20\, 22\, 27 \nOpen Studio on Wednesday from 10 a.m. to 2 p.m.\n8 sessions per month for $100 \nSupplies\, transportation\, and light food included. \nEnroll in all four months or choose your favorite topic. \n\nFebruary’s focus will be Finding Your Creative Style and Memory Painting.\nMarch will be Drawing and Printmaking.\nApril will focus on Studio Art.\nMay\, we will focus on Master Copying and Showing Your Skills.\n\nCall the gallery office at (812) 988-4609 as class sizes are limited!
URL:https://browncountyartgallery.org/event/make-art-make-friends-master-copy/
LOCATION:Brown County Art Gallery\, One Artist Drive\, Nashville\, Indiana\, 47448
CATEGORIES:Make Art,workshops
ATTACH;FMTTYPE=image/webp:https://browncountyartgallery.org/wp-content/uploads/Make-Art-Make-Friends-2025-flyer.webp
END:VEVENT
BEGIN:VEVENT
DTSTART;TZID=America/Indiana/Indianapolis:20250401T100000
DTEND;TZID=America/Indiana/Indianapolis:20250424T140000
DTSTAMP:20260423T122247
CREATED:20241114T185705Z
LAST-MODIFIED:20250128T130653Z
UID:1563-1743501600-1745503200@browncountyartgallery.org
SUMMARY:Make Art\, Make Friends: Studio Art
DESCRIPTION:Classes will be Tuesdays and Thursdays from 10 a.m. to 2 p.m.\nApril 1\, 3\, 8\, 10\, 15\, 17\, 22\, 24 \nOpen Studio on Wednesday from 10 a.m. to 2 p.m.\n8 sessions per month for $100 \nSupplies\, transportation\, and light food included. \nEnroll in all four months or choose your favorite topic. \n\nFebruary’s focus will be Finding Your Creative Style and Memory Painting.\nMarch will be Drawing and Printmaking.\nApril will focus on Studio Art.\nMay\, we will focus on Master Copying and Showing Your Skills.\n\nCall the gallery office at (812) 988-4609 as class sizes are limited!
URL:https://browncountyartgallery.org/event/make-art-make-friends-studio-art/
LOCATION:Brown County Art Gallery\, One Artist Drive\, Nashville\, Indiana\, 47448
CATEGORIES:Make Art,workshops
ATTACH;FMTTYPE=image/webp:https://browncountyartgallery.org/wp-content/uploads/Make-Art-Make-Friends-2025-flyer.webp
END:VEVENT
BEGIN:VEVENT
DTSTART;TZID=America/Indiana/Indianapolis:20250318T100000
DTEND;TZID=America/Indiana/Indianapolis:20250320T140000
DTSTAMP:20260423T122247
CREATED:20250317T180959Z
LAST-MODIFIED:20250317T181456Z
UID:1606-1742292000-1742479200@browncountyartgallery.org
SUMMARY:Make Art\, Make Friends: Printmaking Workshop with Mark Burkett
DESCRIPTION:🎨 Exclusively for March Make Art\, Make Friends Participants! 🎨\nMark Burkett will be hosting a three-day printmaking workshop next week\, March 18th – 20th\, from 10 AM – 2 PM at the Brown County Art Gallery. This hands-on experience will introduce you to the fundamentals of relief printmaking\, allowing you to create and print small editions of your own artwork using provided tools and materials. \nWhat to Expect:\n\nLearn the basics of relief printmaking\nCreate and print small editions of your own artwork\nNo prior experience needed – just bring your creativity!\nConnect with fellow art enthusiasts in a welcoming environment\n\nAll participants will have the opportunity to explore the world of printmaking with a talented instructor and take home their own handcrafted prints! \nLocal Artist – Mark Burkett\n \nMark Burkett is a painter and printer who studied printmaking at Indiana State University where he received his fine arts degree. He will show how to make basic relief prints using provided tools and materials. Participants will be able to produce small editions of art prints. No previous experience is required.
URL:https://browncountyartgallery.org/event/make-art-make-friends-printmaking-workshop-with-mark-burkett/
LOCATION:Brown County Art Gallery\, One Artist Drive\, Nashville\, Indiana\, 47448
CATEGORIES:Make Art,workshops
ATTACH;FMTTYPE=image/webp:https://browncountyartgallery.org/wp-content/uploads/Mark-Burkett.webp
END:VEVENT
BEGIN:VEVENT
DTSTART;TZID=America/Indiana/Indianapolis:20250304T100000
DTEND;TZID=America/Indiana/Indianapolis:20250327T140000
DTSTAMP:20260423T122247
CREATED:20241114T184535Z
LAST-MODIFIED:20250128T130633Z
UID:1560-1741082400-1743084000@browncountyartgallery.org
SUMMARY:Make Art\, Make Friends: Drawing & Printmaking
DESCRIPTION:Classes will be Tuesdays and Thursdays from 10 a.m. to 2 p.m.\nMarch 4\, 6\, 11\, 13\, 18\, 20\, 25\, 27 \nOpen Studio on Wednesday from 10 a.m. to 2 p.m.\n8 sessions per month for $100 \nSupplies\, transportation\, and light food included. \nEnroll in all four months or choose your favorite topic. \n\nFebruary’s focus will be Finding Your Creative Style and Memory Painting.\nMarch will be Drawing and Printmaking.\nApril will focus on Studio Art.\nMay\, we will focus on Master Copying and Showing Your Skills.\n\nCall the gallery office at (812) 988-4609 as class sizes are limited!
URL:https://browncountyartgallery.org/event/make-art-make-friends-drawing-and-printmaking/
LOCATION:Brown County Art Gallery\, One Artist Drive\, Nashville\, Indiana\, 47448
CATEGORIES:Make Art,workshops
ATTACH;FMTTYPE=image/webp:https://browncountyartgallery.org/wp-content/uploads/Make-Art-Make-Friends-2025-flyer.webp
END:VEVENT
BEGIN:VEVENT
DTSTART;TZID=America/Indiana/Indianapolis:20250204T100000
DTEND;TZID=America/Indiana/Indianapolis:20250227T140000
DTSTAMP:20260423T122247
CREATED:20241114T184311Z
LAST-MODIFIED:20250128T130623Z
UID:1557-1738663200-1740664800@browncountyartgallery.org
SUMMARY:Make Art\, Make Friends: Find Your Creative Style
DESCRIPTION:Classes will be Tuesdays and Thursdays from 10 a.m. to 2 p.m.\nFebruary 4\, 6\, 11\, 13\, 18\, 20\, 25\, 27 \nOpen Studio on Wednesday from 10 a.m. to 2 p.m.\n8 sessions per month for $100 \nSupplies\, transportation\, and light food included. \nEnroll in all four months or choose your favorite topic. \n\nFebruary’s focus will be Finding Your Creative Style and Memory Painting.\nMarch will be Drawing and Printmaking.\nApril will focus on Studio Art.\nMay\, we will focus on Master Copying and Showing Your Skills.\n\nCall the gallery office at (812) 988-4609 as class sizes are limited!
URL:https://browncountyartgallery.org/event/make-art-make-friends-find-your-creative-style/
LOCATION:Brown County Art Gallery\, One Artist Drive\, Nashville\, Indiana\, 47448
CATEGORIES:Make Art,workshops
ATTACH;FMTTYPE=image/webp:https://browncountyartgallery.org/wp-content/uploads/Make-Art-Make-Friends-2025-flyer.webp
END:VEVENT
BEGIN:VEVENT
DTSTART;TZID=America/Indiana/Indianapolis:20240810T123000
DTEND;TZID=America/Indiana/Indianapolis:20240810T163000
DTSTAMP:20260423T122247
CREATED:20240617T155041Z
LAST-MODIFIED:20240617T155133Z
UID:1361-1723293000-1723307400@browncountyartgallery.org
SUMMARY:Printmaking 101
DESCRIPTION:Cut off for enrollment: August 2 \nInstructor: James Hubbard \nParticipants will create unique monotype & relief prints using a variety of techniques. Prints will be created using handheld printing tools\, linoleum\, diverse papers and water based inks\, water miscible oil inks and acrylic paint. In addition\, participants will create a group artwork. Emphasis will be on individual and group creative experimentation & discovery. Connections between painting and printmaking will be made. While this workshop is geared toward print beginners\, those with some experience are also welcome to enroll. Cost is $275. \nJames is an experienced print artist who has taught printmaking and exhibited his award-winning art throughout Central Indiana since 2009. His specialty is seascape\, landscape and floral linocut and monotype prints as well as collage. You can learn more about this artist at: www.jhubbardprints.net.
URL:https://browncountyartgallery.org/event/printmaking-101/
LOCATION:Indiana
CATEGORIES:Make Art,workshops
END:VEVENT
BEGIN:VEVENT
DTSTART;TZID=America/Indiana/Indianapolis:20240507T100000
DTEND;TZID=America/Indiana/Indianapolis:20240530T140000
DTSTAMP:20260423T122247
CREATED:20240104T130033Z
LAST-MODIFIED:20240604T191243Z
UID:1177-1715076000-1717077600@browncountyartgallery.org
SUMMARY:Make Art\, Make Friends: Learning the Media
DESCRIPTION:From tempera paint\, acrylic\, oil\, pencil\, and even crayons. Learn the tools of the trade. \nMay 7\, 9\, 14\, 16\, 21\, 23\, 28 & 30 · 10 am – 2 pm (lunch included)\nCost is $20 per monthly session with 8 classes per month \n\nJoin instructor Amanda Mathis for four months of creativity\, learning\, and fellowship for seniors 55 and older. With 8 sessions per month and 4 sessions\, each with a different theme\, there is something for every artist to explore. Enroll in all four months or choose your favorite topics. Supplies\, transportation and lunch are included. \nProgram funded by a grant from the the Indiana Arts Commission. \nCall the Gallery to register · (812) 988-4609
URL:https://browncountyartgallery.org/event/learning-the-media/
LOCATION:Brown County Art Gallery\, One Artist Drive\, Nashville\, Indiana\, 47448
CATEGORIES:Make Art,workshops
ATTACH;FMTTYPE=image/jpeg:https://browncountyartgallery.org/wp-content/uploads/4609-Make-Art-square-calendar.jpg
END:VEVENT
BEGIN:VEVENT
DTSTART;TZID=America/Indiana/Indianapolis:20240402T100000
DTEND;TZID=America/Indiana/Indianapolis:20240625T140000
DTSTAMP:20260423T122247
CREATED:20240104T125842Z
LAST-MODIFIED:20240604T191253Z
UID:1174-1712052000-1719324000@browncountyartgallery.org
SUMMARY:Make Art\, Make Friends: Studio Art
DESCRIPTION:Students will learn about the art of still life. Arrange flowers\, plants\, and artifacts. Bring your own from the garden or home and then capture the moment. \nApril 2\, 4\, 9\, 11\, 16\, 18\, 23 & 25 · 10 am – 2 pm (lunch included)\nCost is $20 per monthly session with 8 classes per month \n\nJoin instructor Amanda Mathis for four months of creativity\, learning\, and fellowship for seniors 55 and older. With 8 sessions per month and 4 sessions\, each with a different theme\, there is something for every artist to explore. Enroll in all four months or choose your favorite topics. Supplies\, transportation and lunch are included. \nProgram funded by a grant from the the Indiana Arts Commission. \nCall the Gallery to register · (812) 988-4609
URL:https://browncountyartgallery.org/event/studio-art/
LOCATION:Brown County Art Gallery\, One Artist Drive\, Nashville\, Indiana\, 47448
CATEGORIES:Make Art,workshops
ATTACH;FMTTYPE=image/jpeg:https://browncountyartgallery.org/wp-content/uploads/4609-Make-Art-square-calendar.jpg
END:VEVENT
BEGIN:VEVENT
DTSTART;TZID=America/Indiana/Indianapolis:20240305T100000
DTEND;TZID=America/Indiana/Indianapolis:20240328T140000
DTSTAMP:20260423T122247
CREATED:20240104T125630Z
LAST-MODIFIED:20240604T191307Z
UID:1172-1709632800-1711634400@browncountyartgallery.org
SUMMARY:Make Art\, Make Friends: Find Your Style
DESCRIPTION:Are you an Impressionist? An Abstract artist? Representational? Learn about the different styles and experiment with different techniques. The Gallery Permanent Collection will serve as a reference source. \nMarch 5\, 7\, 12\, 14\, 19\, 21\, 26 & 28 · 10 am – 2 pm (lunch included)\nCost is $20 per monthly session with 8 classes per month \n\nJoin instructor Amanda Mathis for four months of creativity\, learning\, and fellowship for seniors 55 and older. With 8 sessions per month and 4 sessions\, each with a different theme\, there is something for every artist to explore. Enroll in all four months or choose your favorite topics. Supplies\, transportation and lunch are included. \nProgram funded by a grant from the the Indiana Arts Commission. \nCall the Gallery to register · (812) 988-4609
URL:https://browncountyartgallery.org/event/find-your-style/
LOCATION:Brown County Art Gallery\, One Artist Drive\, Nashville\, Indiana\, 47448
CATEGORIES:Make Art,workshops
ATTACH;FMTTYPE=image/jpeg:https://browncountyartgallery.org/wp-content/uploads/4609-Make-Art-square-calendar.jpg
END:VEVENT
BEGIN:VEVENT
DTSTART;TZID=America/Indiana/Indianapolis:20240208T100000
DTEND;TZID=America/Indiana/Indianapolis:20240229T140000
DTSTAMP:20260423T122247
CREATED:20240104T125029Z
LAST-MODIFIED:20240604T191318Z
UID:1165-1707386400-1709215200@browncountyartgallery.org
SUMMARY:Make Art\, Make Friends: Memory Painting
DESCRIPTION:Bring a favorite picture or recall a memory and create it on canvas. Over four weeks\, plan your creation and execute it while sharing time with classmates. \nFebruary 8\, 15\, 16\, 20\, 22\, 23\, 27 & 29 · 10 am – 2 pm (lunch included)\nCost is $20 per monthly session with 8 classes per month \n\nJoin instructor Amanda Mathis for four months of creativity\, learning\, and fellowship for seniors 55 and older. With 8 sessions per month and 4 sessions\, each with a different theme\, there is something for every artist to explore. Enroll in all four months or choose your favorite topics. Supplies\, transportation and lunch are included. \nProgram funded by a grant from the the Indiana Arts Commission. \nCall the Gallery to register · (812) 988-4609
URL:https://browncountyartgallery.org/event/memory-painting/
LOCATION:Brown County Art Gallery\, One Artist Drive\, Nashville\, Indiana\, 47448
CATEGORIES:Make Art,workshops
ATTACH;FMTTYPE=image/jpeg:https://browncountyartgallery.org/wp-content/uploads/4609-Make-Art-square-calendar.jpg
END:VEVENT
END:VCALENDAR