BEGIN:VCALENDAR
VERSION:2.0
PRODID:-//The Historic Brown County Art Gallery · Nashville, Indiana - ECPv6.15.11//NONSGML v1.0//EN
CALSCALE:GREGORIAN
METHOD:PUBLISH
X-ORIGINAL-URL:https://browncountyartgallery.org
X-WR-CALDESC:Events for The Historic Brown County Art Gallery · Nashville, Indiana
REFRESH-INTERVAL;VALUE=DURATION:PT1H
X-Robots-Tag:noindex
X-PUBLISHED-TTL:PT1H
BEGIN:VTIMEZONE
TZID:America/Indiana/Indianapolis
BEGIN:DAYLIGHT
TZOFFSETFROM:-0500
TZOFFSETTO:-0400
TZNAME:EDT
DTSTART:20250309T070000
END:DAYLIGHT
BEGIN:STANDARD
TZOFFSETFROM:-0400
TZOFFSETTO:-0500
TZNAME:EST
DTSTART:20251102T060000
END:STANDARD
BEGIN:DAYLIGHT
TZOFFSETFROM:-0500
TZOFFSETTO:-0400
TZNAME:EDT
DTSTART:20260308T070000
END:DAYLIGHT
BEGIN:STANDARD
TZOFFSETFROM:-0400
TZOFFSETTO:-0500
TZNAME:EST
DTSTART:20261101T060000
END:STANDARD
BEGIN:DAYLIGHT
TZOFFSETFROM:-0500
TZOFFSETTO:-0400
TZNAME:EDT
DTSTART:20270314T070000
END:DAYLIGHT
BEGIN:STANDARD
TZOFFSETFROM:-0400
TZOFFSETTO:-0500
TZNAME:EST
DTSTART:20271107T060000
END:STANDARD
END:VTIMEZONE
BEGIN:VEVENT
DTSTART;VALUE=DATE:20260307
DTEND;VALUE=DATE:20260415
DTSTAMP:20260423T132739
CREATED:20260202T133212Z
LAST-MODIFIED:20260202T133212Z
UID:1881-1772841600-1776211199@browncountyartgallery.org
SUMMARY:28th Annual Mabel B. Annis Student Art Competition
DESCRIPTION:The Annual Mabel B. Annis student art competition features works by 7th – 12th-grade art students from Bartholomew\, Brown\, Greene\, Jackson\, Johnson\, Morgan\, and Monroe County schools. Home school students may participate if they are under the guidance of a licensed Art Teacher. \nThe Competition is judged and includes six categories:\nPainting | Drawing | 3-D | Print | Photography | Video \nOver $14\,000 cash was awarded to participants last year. A $250.00 IHA “Teacher of the Year” award will be given in both the Junior High and Senior High Divisions.\nAll teachers will receive a stipend for their participation. \nArtist Israel Solomon returns as this year’s judge. Israel Solomon who will not only act as a judge but will speak to the students and bring examples of his work. Professional artist and teacher Israel Solomon will educate young art students about the ways they can turn their love of art into a career. \nHe is a member of the 18 Art Collective which gives exhibition space and support to artists of color in Indianapolis. His studios are at the Harrison Art Center. \nReception and awards will be on Sunday\, March 8th at 2:00pm
URL:https://browncountyartgallery.org/event/28th-annual-mabel-b-annis-student-art-competition/
LOCATION:Brown County Art Gallery\, One Artist Drive\, Nashville\, Indiana\, 47448
CATEGORIES:exhibits,receptions
ATTACH;FMTTYPE=image/webp:https://browncountyartgallery.org/wp-content/uploads/Annis-Student-Art-Competition.webp
ORGANIZER;CN="The Historic Brown County Art Gallery":MAILTO:brncagal@gmail.com
END:VEVENT
END:VCALENDAR