BEGIN:VCALENDAR
VERSION:2.0
PRODID:-//The Historic Brown County Art Gallery · Nashville, Indiana - ECPv6.15.11//NONSGML v1.0//EN
CALSCALE:GREGORIAN
METHOD:PUBLISH
X-ORIGINAL-URL:https://browncountyartgallery.org
X-WR-CALDESC:Events for The Historic Brown County Art Gallery · Nashville, Indiana
REFRESH-INTERVAL;VALUE=DURATION:PT1H
X-Robots-Tag:noindex
X-PUBLISHED-TTL:PT1H
BEGIN:VTIMEZONE
TZID:America/Indiana/Indianapolis
BEGIN:DAYLIGHT
TZOFFSETFROM:-0500
TZOFFSETTO:-0400
TZNAME:EDT
DTSTART:20220313T070000
END:DAYLIGHT
BEGIN:STANDARD
TZOFFSETFROM:-0400
TZOFFSETTO:-0500
TZNAME:EST
DTSTART:20221106T060000
END:STANDARD
BEGIN:DAYLIGHT
TZOFFSETFROM:-0500
TZOFFSETTO:-0400
TZNAME:EDT
DTSTART:20230312T070000
END:DAYLIGHT
BEGIN:STANDARD
TZOFFSETFROM:-0400
TZOFFSETTO:-0500
TZNAME:EST
DTSTART:20231105T060000
END:STANDARD
BEGIN:DAYLIGHT
TZOFFSETFROM:-0500
TZOFFSETTO:-0400
TZNAME:EDT
DTSTART:20240310T070000
END:DAYLIGHT
BEGIN:STANDARD
TZOFFSETFROM:-0400
TZOFFSETTO:-0500
TZNAME:EST
DTSTART:20241103T060000
END:STANDARD
BEGIN:DAYLIGHT
TZOFFSETFROM:-0500
TZOFFSETTO:-0400
TZNAME:EDT
DTSTART:20250309T070000
END:DAYLIGHT
BEGIN:STANDARD
TZOFFSETFROM:-0400
TZOFFSETTO:-0500
TZNAME:EST
DTSTART:20251102T060000
END:STANDARD
BEGIN:DAYLIGHT
TZOFFSETFROM:-0500
TZOFFSETTO:-0400
TZNAME:EDT
DTSTART:20260308T070000
END:DAYLIGHT
BEGIN:STANDARD
TZOFFSETFROM:-0400
TZOFFSETTO:-0500
TZNAME:EST
DTSTART:20261101T060000
END:STANDARD
BEGIN:DAYLIGHT
TZOFFSETFROM:-0500
TZOFFSETTO:-0400
TZNAME:EDT
DTSTART:20270314T070000
END:DAYLIGHT
BEGIN:STANDARD
TZOFFSETFROM:-0400
TZOFFSETTO:-0500
TZNAME:EST
DTSTART:20271107T060000
END:STANDARD
END:VTIMEZONE
BEGIN:VEVENT
DTSTART;VALUE=DATE:20260307
DTEND;VALUE=DATE:20260415
DTSTAMP:20260423T122128
CREATED:20260202T133212Z
LAST-MODIFIED:20260202T133212Z
UID:1881-1772841600-1776211199@browncountyartgallery.org
SUMMARY:28th Annual Mabel B. Annis Student Art Competition
DESCRIPTION:The Annual Mabel B. Annis student art competition features works by 7th – 12th-grade art students from Bartholomew\, Brown\, Greene\, Jackson\, Johnson\, Morgan\, and Monroe County schools. Home school students may participate if they are under the guidance of a licensed Art Teacher. \nThe Competition is judged and includes six categories:\nPainting | Drawing | 3-D | Print | Photography | Video \nOver $14\,000 cash was awarded to participants last year. A $250.00 IHA “Teacher of the Year” award will be given in both the Junior High and Senior High Divisions.\nAll teachers will receive a stipend for their participation. \nArtist Israel Solomon returns as this year’s judge. Israel Solomon who will not only act as a judge but will speak to the students and bring examples of his work. Professional artist and teacher Israel Solomon will educate young art students about the ways they can turn their love of art into a career. \nHe is a member of the 18 Art Collective which gives exhibition space and support to artists of color in Indianapolis. His studios are at the Harrison Art Center. \nReception and awards will be on Sunday\, March 8th at 2:00pm
URL:https://browncountyartgallery.org/event/28th-annual-mabel-b-annis-student-art-competition/
LOCATION:Brown County Art Gallery\, One Artist Drive\, Nashville\, Indiana\, 47448
CATEGORIES:exhibits,receptions
ATTACH;FMTTYPE=image/webp:https://browncountyartgallery.org/wp-content/uploads/Annis-Student-Art-Competition.webp
ORGANIZER;CN="The Historic Brown County Art Gallery":MAILTO:brncagal@gmail.com
END:VEVENT
BEGIN:VEVENT
DTSTART;TZID=America/Indiana/Indianapolis:20251206T120000
DTEND;TZID=America/Indiana/Indianapolis:20251206T170000
DTSTAMP:20260423T122128
CREATED:20251126T184739Z
LAST-MODIFIED:20251126T184739Z
UID:1816-1765022400-1765040400@browncountyartgallery.org
SUMMARY:Uplands Winter Wine Market
DESCRIPTION:The Indiana Uplands Wine Trail presents\nUplands Winter Wine Market \nSip and shop at our annual Winter Market featuring art\, wine tasting\, and holiday goodies\, with all nine wineries of the IUWT and the best in local artisans. \nEvent Tickets: $30 (all taxes and fees included)\nincludes all wine tasting\, souvenir wine trail glass and tote bag.
URL:https://browncountyartgallery.org/event/2025-uplands-winter-wine-market/
LOCATION:Brown County Art Gallery\, One Artist Drive\, Nashville\, Indiana\, 47448
CATEGORIES:receptions
ATTACH;FMTTYPE=image/webp:https://browncountyartgallery.org/wp-content/uploads/Uplands-Winter-Wine-Market.webp
END:VEVENT
BEGIN:VEVENT
DTSTART;VALUE=DATE:20250308
DTEND;VALUE=DATE:20250414
DTSTAMP:20260423T122128
CREATED:20250116T184910Z
LAST-MODIFIED:20250116T184910Z
UID:1579-1741392000-1744588799@browncountyartgallery.org
SUMMARY:2025 Mabel B. Annis Student Art Competition
DESCRIPTION:Eligibility\nOpen to 7th-12th grade students in the following counties: Brown\, Bartholomew\, Greene\, Jackson\, Johnson\, Monroe and Morgan. Homeschool students under the guidance of a licensed art teacher \nEntry Procedure\nTeachers must email brncagal@gmail.com with their intent to participate by January 25\, 2025. Artwork is selected by holding a school competition before February 2025 – OR – the art teacher selects the artwork at his/her discretion. If a competition is held\, Middle School and High School must be judged separately. Select the top five pieces of artwork in each of the six categories for both Middle school and High school. These winners go on to compete for prizes in the Mabel B. Annis Student Art Competition. \nGuidelines for Artwork\nArtwork can be created in six categories only: Painting\, Drawing\, 3-D\, Photography\, Print and Video. All artworks must be completely original. Artwork may not be a projected copy of an image; computer generated or have been produced or modified by another individual besides the student.  \nWork completed before August 1\, 2024\, is not eligible. Work cannot be larger than 24 x 30 (unframed) and must be dry\, matted\, framed (if applicable) and ready to hang. Pastels must be placed under protective material. The photographs must be mounted and ready to hang. Videos must be 1:00 minimum\, 2:00 maximum and presented on a thumb drive.  \nAll work must be properly tagged and labeled (front & back) with the provided entry form upon delivery to the Gallery. Student artists may price their work. The Gallery has the right to photograph or film the artists and their work. \nSubmit\n\nRSVP intent to participate by January 25\, 2025 to (brncagal@gmail.com)\nProvide completed Entry Form upon delivery of artwork.\n\nDelivery / Pickup of Work\nTagged artwork (front & back) must be delivered to the Gallery between February 24 & 25\, 2025 from 10:00 AM – 5:00 PM and must be accompanied with the completed “Entry Identification” form. Work must be picked up April 14 & 15\, 2025 from 10:00 AM – 5:00 PM. \nAwards\nOn March 4\, 2025\, the final round of judging will take place at the Gallery by IHA artist/Judge Jeff Klinker. Ribbons and cash prizes will be awarded for each of the Middle School and High School competitions. Over $6500 cash was awarded to participants last year. A $250.00 IHA “Teacher of the Year” award will be given in both the Junior High and Senior High Divisions. \nAll teachers will receive a stipend for their participation. \nSchedule\n\nRSVP due January 25\, 2025\nSelect artwork via school competition or teacher’s discretion by February 2025.\nDelivery of artwork to Gallery February 24 or 25\, 2025. Let us know if you need a special drop-off date.\nShow Dates: March 8 – April 13\, 2025\nReception\, March 9\, 2025\, 2:00 – 4:00 pm\,\nwith Program and Award Presentation @ 3:00 pm\nExhibit closes April 13\, 2025\nPick-up art April 14-15\, 2025 – 10AM-5PM\n\n**Please note our email has changed
URL:https://browncountyartgallery.org/event/2025-mabel-b-annis-student-art-competition/
LOCATION:Brown County Art Gallery\, One Artist Drive\, Nashville\, Indiana\, 47448
CATEGORIES:exhibits,receptions
ATTACH;FMTTYPE=image/webp:https://browncountyartgallery.org/wp-content/uploads/2025-Mabel-B.-Annis-Student-Art-Competition-at-the-Brown-County-Art-Gallery.webp
END:VEVENT
BEGIN:VEVENT
DTSTART;TZID=America/Indiana/Indianapolis:20241005T170000
DTEND;TZID=America/Indiana/Indianapolis:20241005T200000
DTSTAMP:20260423T122128
CREATED:20240912T155004Z
LAST-MODIFIED:20240912T155004Z
UID:1449-1728147600-1728158400@browncountyartgallery.org
SUMMARY:Collectors' Showcase 2024 Opening Reception
DESCRIPTION:Make your reservations for the Collector’s Showcase opening reception on October 5th\, from 5 pm to 8 pm. \nWe celebrate one hundred years of the Hoosier Salon and the relationship with the Brown County Artists. \nCurators Jim Ross and Dan Kraft have put together a century of Salon Prize winners from private collections and museums. It looks to be one of our best exhibits ever. Join us for food\, wine\, music\, history and art. $20 at the door. Call the Gallery at (812) 988-4609 for reservations\, or email brncagal@gmail.com.
URL:https://browncountyartgallery.org/event/collectors-showcase-2024-opening-reception/
LOCATION:Brown County Art Gallery\, One Artist Drive\, Nashville\, Indiana\, 47448
CATEGORIES:Collectors' Showcase,receptions
ATTACH;FMTTYPE=image/webp:https://browncountyartgallery.org/wp-content/uploads/Collectors-Showcase-2024-Opening-Reception.webp
END:VEVENT
BEGIN:VEVENT
DTSTART;TZID=America/Indiana/Indianapolis:20240615T173000
DTEND;TZID=America/Indiana/Indianapolis:20240615T200000
DTSTAMP:20260423T122128
CREATED:20240507T193614Z
LAST-MODIFIED:20260224T203824Z
UID:1252-1718472600-1718481600@browncountyartgallery.org
SUMMARY:Painting Selma's Garden
DESCRIPTION:Experience Selma Steele’s gardens through the eyes – and works – of Indiana artists from 10 a.m. to 5 p.m. \nAt 5:30pm the “chance to buy” reception opens with food\, wine and tours of the home\, studio\, and gardens. There will be catering by Kevin Ault featuring food and wine.\nAt 6:00pm the staff from the Steele Site will present a history-based program in the Visitor Center and the paintings will go on display in the Steele Studio. A 30-percent commission from art sales is shared between the Steele Site\, Indiana Heritage Arts\, and the Brown County Art Gallery Foundation. After the reception\, the Paint Out art will be moved to the Brown County Art Gallery to join the annual IHA exhibit. \nReception reservations are Required. \n45.00 per person (buy your admission at the IHA opening and get a $5 discount) \n10.00 each per artist and one artist guest. \nBuy admission online by using this link. https://9529a.blackbaudhosting.com/9529a/tickets?tab=2&txobjid=fc79d18b-7a9e-4a51-9ca8-d38b43f57a0c&fbclid=IwZXh0bgNhZW0CMTAAAR2owkAvmbK7bsgBo8LEO_Bwz1IH9I_wGZBDIHy4pEL_zXbpl4vQHTzh4nA_aem_ATEDfZDoPqHDoym7wNOlcg5mQsFh29zpfRQr4W6f9cY-vXhnjOHp0AEFq1-qaBvUk3jqr_Th0Yxx1wgf-ZZfd9l9
URL:https://browncountyartgallery.org/event/painting-selmas-garden-2/
LOCATION:T.C. Steele State Historic Site\, 4220 TC Steele Road\, Nashvill\, Indiana\, 47448
CATEGORIES:receptions
ATTACH;FMTTYPE=image/webp:https://browncountyartgallery.org/wp-content/uploads/2024-Exhibition-Selmas-Garden.webp
ORGANIZER;CN="Indiana Heritage Arts":MAILTO:brncagal@gmail.com
END:VEVENT
BEGIN:VEVENT
DTSTART;TZID=America/Indiana/Indianapolis:20240514T180000
DTEND;TZID=America/Indiana/Indianapolis:20240514T203000
DTSTAMP:20260423T122128
CREATED:20240507T200328Z
LAST-MODIFIED:20240604T190722Z
UID:1257-1715709600-1715718600@browncountyartgallery.org
SUMMARY:Special Screening of the Hoosier Masters
DESCRIPTION:Indiana Heritage Arts will be hosting a special screening of “Hoosier Masters\,” the IHA Permanent Collection video at the Brown County Public Library on Tuesday\, May 14 at 6 pm.\nHear the inspirational stories of three IHA artists whose works are represented in the IHA Permanent Collection. Learn about the 46-year history of IHA\, which has evolved into one of Indiana’s most prestigious art organizations. This will be a special evening for all art lovers! \nGenerous hors d’oeuvres and wine will be served.\nRESERVATIONS REQUIRED. Seating is limited.\nRegister by calling the Brown County Art Gallery at (812) 988-4609\nThanks to the Brown County Community Foundation and the Indiana Arts Commission for their generous support.
URL:https://browncountyartgallery.org/event/special-screening-of-the-hoosier-masters/
LOCATION:Brown County Public Library\, 205 Locust Ln\, Nashville\, IN\, 47448\, United States
CATEGORIES:receptions
ATTACH;FMTTYPE=image/webp:https://browncountyartgallery.org/wp-content/uploads/IHA-Library.webp
ORGANIZER;CN="Indiana Heritage Arts":MAILTO:brncagal@gmail.com
END:VEVENT
BEGIN:VEVENT
DTSTART;TZID=America/Indiana/Indianapolis:20240413T100000
DTEND;TZID=America/Indiana/Indianapolis:20240512T170000
DTSTAMP:20260423T122128
CREATED:20240316T131909Z
LAST-MODIFIED:20240604T191505Z
UID:1211-1713002400-1715533200@browncountyartgallery.org
SUMMARY:26th Annual Mabel B. Annis Student Art Competition and Show
DESCRIPTION:This annual student art competition features works by 7th – 12th-grade art students from Bartholomew\, Brown\, Greene\, Jackson\, Johnson\, Morgan\, and Monroe County schools. Home school students may participate if they are under the guidance of a licensed Art Teacher.\n\nThe Competition is judged and includes six categories:\nPainting | Drawing | 3-D | Print | Photography | Video \n\nTeachers\, please email brncagal@gmail.com with your intent to participate by March 25th. Please email a list of your participating artists by no later than April 1st.\nThere will be over $2500 awarded in prize money and Indiana Heritage Arts will be presenting a “$250 IHA Teacher of the Year” award in both the Junior High and Senior High Divisions. In addition\, a stipend will be awarded to every participating teacher. \nReception and awards will be on Sunday\, April 14th at 2:00 pm with awards presented at 3:00 pm
URL:https://browncountyartgallery.org/event/26th-annual-mabel-b-annis-student-art-competition-and-show/
LOCATION:Brown County Art Gallery\, One Artist Drive\, Nashville\, Indiana\, 47448
CATEGORIES:exhibits,receptions
ATTACH;FMTTYPE=image/jpeg:https://browncountyartgallery.org/wp-content/uploads/4609-2024-Annis-FB-event-TV-slide-scaled.jpg
ORGANIZER;CN="The Historic Brown County Art Gallery":MAILTO:brncagal@gmail.com
END:VEVENT
BEGIN:VEVENT
DTSTART;VALUE=DATE:20231202
DTEND;VALUE=DATE:20231203
DTSTAMP:20260423T122128
CREATED:20221231T184159Z
LAST-MODIFIED:20221231T184159Z
UID:802-1701475200-1701561599@browncountyartgallery.org
SUMMARY:2023 Upland's Winter Wine Market
DESCRIPTION:SAVE THE DATE!\nWine tasting from 9 Indiana wineries\, along with work by regional artisans and other holiday goodies available for purchase. Tickets required\, details to come.
URL:https://browncountyartgallery.org/event/2023-uplands-winter-wine-market/
LOCATION:Brown County Art Gallery\, One Artist Drive\, Nashville\, Indiana\, 47448
CATEGORIES:receptions
END:VEVENT
BEGIN:VEVENT
DTSTART;TZID=America/Indiana/Indianapolis:20230617T173000
DTEND;TZID=America/Indiana/Indianapolis:20230617T200000
DTSTAMP:20260423T122128
CREATED:20221231T182859Z
LAST-MODIFIED:20221231T182859Z
UID:791-1687023000-1687032000@browncountyartgallery.org
SUMMARY:Painting Selma's Garden
DESCRIPTION:SAVE THE DATE! \nPainting Selma’s Garden returns with an expanded Paint-Out and a special program before the reception. Details to come. \nPresented by TC Steele State Historic Site\, Brown County Art Gallery and Indiana Heritage Arts
URL:https://browncountyartgallery.org/event/painting-selmas-garden/
LOCATION:T.C. Steele State Historic Site\, 4220 TC Steele Road\, Nashvill\, Indiana\, 47448
CATEGORIES:receptions
END:VEVENT
BEGIN:VEVENT
DTSTART;VALUE=DATE:20230408
DTEND;VALUE=DATE:20230515
DTSTAMP:20260423T122128
CREATED:20221231T182221Z
LAST-MODIFIED:20230408T151147Z
UID:786-1680912000-1684108799@browncountyartgallery.org
SUMMARY:Mabel B. Annis Student Art Competition
DESCRIPTION:Works by student artists from over seven Indiana junior and senior high schools in painting\, drawing\, printmaking\, 3-D\, video and photography will be on display. Download the program to see all of the winners. \nOpening reception April 8 · 1:30 – 4 pm
URL:https://browncountyartgallery.org/event/2023-annis-exhibit/
LOCATION:Brown County Art Gallery\, One Artist Drive\, Nashville\, Indiana\, 47448
CATEGORIES:exhibits,receptions
ATTACH;FMTTYPE=image/jpeg:https://browncountyartgallery.org/wp-content/uploads/4609-021423-Annis-square-1.jpg
END:VEVENT
END:VCALENDAR