BEGIN:VCALENDAR
VERSION:2.0
PRODID:-//The Historic Brown County Art Gallery · Nashville, Indiana - ECPv6.15.11//NONSGML v1.0//EN
CALSCALE:GREGORIAN
METHOD:PUBLISH
X-ORIGINAL-URL:https://browncountyartgallery.org
X-WR-CALDESC:Events for The Historic Brown County Art Gallery · Nashville, Indiana
REFRESH-INTERVAL;VALUE=DURATION:PT1H
X-Robots-Tag:noindex
X-PUBLISHED-TTL:PT1H
BEGIN:VTIMEZONE
TZID:America/Indiana/Indianapolis
BEGIN:DAYLIGHT
TZOFFSETFROM:-0500
TZOFFSETTO:-0400
TZNAME:EDT
DTSTART:20210314T070000
END:DAYLIGHT
BEGIN:STANDARD
TZOFFSETFROM:-0400
TZOFFSETTO:-0500
TZNAME:EST
DTSTART:20211107T060000
END:STANDARD
BEGIN:DAYLIGHT
TZOFFSETFROM:-0500
TZOFFSETTO:-0400
TZNAME:EDT
DTSTART:20220313T070000
END:DAYLIGHT
BEGIN:STANDARD
TZOFFSETFROM:-0400
TZOFFSETTO:-0500
TZNAME:EST
DTSTART:20221106T060000
END:STANDARD
BEGIN:DAYLIGHT
TZOFFSETFROM:-0500
TZOFFSETTO:-0400
TZNAME:EDT
DTSTART:20230312T070000
END:DAYLIGHT
BEGIN:STANDARD
TZOFFSETFROM:-0400
TZOFFSETTO:-0500
TZNAME:EST
DTSTART:20231105T060000
END:STANDARD
BEGIN:DAYLIGHT
TZOFFSETFROM:-0500
TZOFFSETTO:-0400
TZNAME:EDT
DTSTART:20240310T070000
END:DAYLIGHT
BEGIN:STANDARD
TZOFFSETFROM:-0400
TZOFFSETTO:-0500
TZNAME:EST
DTSTART:20241103T060000
END:STANDARD
BEGIN:DAYLIGHT
TZOFFSETFROM:-0500
TZOFFSETTO:-0400
TZNAME:EDT
DTSTART:20250309T070000
END:DAYLIGHT
BEGIN:STANDARD
TZOFFSETFROM:-0400
TZOFFSETTO:-0500
TZNAME:EST
DTSTART:20251102T060000
END:STANDARD
BEGIN:DAYLIGHT
TZOFFSETFROM:-0500
TZOFFSETTO:-0400
TZNAME:EDT
DTSTART:20260308T070000
END:DAYLIGHT
BEGIN:STANDARD
TZOFFSETFROM:-0400
TZOFFSETTO:-0500
TZNAME:EST
DTSTART:20261101T060000
END:STANDARD
END:VTIMEZONE
BEGIN:VEVENT
DTSTART;VALUE=DATE:20251206
DTEND;VALUE=DATE:20260101
DTSTAMP:20260423T122312
CREATED:20251217T222054Z
LAST-MODIFIED:20251217T222054Z
UID:1867-1764979200-1767225599@browncountyartgallery.org
SUMMARY:2025 Annual IPAPA Member Exhibition & Sale
DESCRIPTION:December 6 – December 31\, 2025\n$5\,000 in Awards \nReception and Awards Presentation\nSaturday\, December 13 – 2-4pm Awards at 3pm
URL:https://browncountyartgallery.org/event/2025-annual-ipapa-member-exhibition-sale/
LOCATION:Brown County Art Gallery\, One Artist Drive\, Nashville\, Indiana\, 47448
CATEGORIES:exhibits,sales
ATTACH;FMTTYPE=image/webp:https://browncountyartgallery.org/wp-content/uploads/2025-Annual-IPAPA-Member-Exhibition.webp
END:VEVENT
BEGIN:VEVENT
DTSTART;VALUE=DATE:20221028
DTEND;VALUE=DATE:20221030
DTSTAMP:20260423T122312
CREATED:20220826T122540Z
LAST-MODIFIED:20220826T122540Z
UID:581-1666915200-1667087999@browncountyartgallery.org
SUMMARY:Brown County State Park Paint Out & Wet Paint Sale
DESCRIPTION:Gallery artists will be painting the Park! You can see artists at work throughout the Brown County State Park. Paintings will be delivered to the Gallery throughout the day where they will be available for purchase. \n20% of sales from this event will benefit the Brown County Art Gallery Foundation.
URL:https://browncountyartgallery.org/event/brown-county-state-park-paint-out-wet-paint-sale/
LOCATION:Brown County Art Gallery\, One Artist Drive\, Nashville\, Indiana\, 47448
CATEGORIES:sales
ATTACH;FMTTYPE=image/jpeg:https://browncountyartgallery.org/wp-content/uploads/4609-2022-BC-State-Park-Paint-Out-square-1080x1080-1.jpg
END:VEVENT
END:VCALENDAR