BEGIN:VCALENDAR
VERSION:2.0
PRODID:-//The Historic Brown County Art Gallery · Nashville, Indiana - ECPv6.15.11//NONSGML v1.0//EN
CALSCALE:GREGORIAN
METHOD:PUBLISH
X-ORIGINAL-URL:https://browncountyartgallery.org
X-WR-CALDESC:Events for The Historic Brown County Art Gallery · Nashville, Indiana
REFRESH-INTERVAL;VALUE=DURATION:PT1H
X-Robots-Tag:noindex
X-PUBLISHED-TTL:PT1H
BEGIN:VTIMEZONE
TZID:America/Indiana/Indianapolis
BEGIN:DAYLIGHT
TZOFFSETFROM:-0500
TZOFFSETTO:-0400
TZNAME:EDT
DTSTART:20220313T070000
END:DAYLIGHT
BEGIN:STANDARD
TZOFFSETFROM:-0400
TZOFFSETTO:-0500
TZNAME:EST
DTSTART:20221106T060000
END:STANDARD
BEGIN:DAYLIGHT
TZOFFSETFROM:-0500
TZOFFSETTO:-0400
TZNAME:EDT
DTSTART:20230312T070000
END:DAYLIGHT
BEGIN:STANDARD
TZOFFSETFROM:-0400
TZOFFSETTO:-0500
TZNAME:EST
DTSTART:20231105T060000
END:STANDARD
BEGIN:DAYLIGHT
TZOFFSETFROM:-0500
TZOFFSETTO:-0400
TZNAME:EDT
DTSTART:20240310T070000
END:DAYLIGHT
BEGIN:STANDARD
TZOFFSETFROM:-0400
TZOFFSETTO:-0500
TZNAME:EST
DTSTART:20241103T060000
END:STANDARD
END:VTIMEZONE
BEGIN:VEVENT
DTSTART;TZID=America/Indiana/Indianapolis:20230612T090000
DTEND;TZID=America/Indiana/Indianapolis:20230623T120000
DTSTAMP:20260425T081121
CREATED:20230524T145447Z
LAST-MODIFIED:20240604T191403Z
UID:950-1686560400-1687521600@browncountyartgallery.org
SUMMARY:Children's Art Camp - Ages 7-11
DESCRIPTION:Taught by Association artist and teacher Amanda Mathis\, this two-week session will help young artists explore their creativity\, make new friends\, and learn about different mediums and color theory. Supplies will be included and light snacks will be available for the children.\nSupport for the camp is provided by the Brown County Community Foundation. \nClass size is limited\, so reserve your spot by calling the Brown County Art Gallery at (812) 988-4609 or sending an email to brncagal@gmail.com
URL:https://browncountyartgallery.org/event/childrens-art-camp-ages-7-11/
LOCATION:Brown County Art Gallery\, One Artist Drive\, Nashville\, Indiana\, 47448
CATEGORIES:workshops
ATTACH;FMTTYPE=image/png:https://browncountyartgallery.org/wp-content/uploads/Childrens-Art-Camp-4.png
END:VEVENT
BEGIN:VEVENT
DTSTART;TZID=America/Indiana/Indianapolis:20230630T090000
DTEND;TZID=America/Indiana/Indianapolis:20230702T160000
DTSTAMP:20260425T081121
CREATED:20230301T152929Z
LAST-MODIFIED:20240604T191414Z
UID:857-1688115600-1688313600@browncountyartgallery.org
SUMMARY:Drawing Bootcamp: A Complete Introductory Course with Alan Larkin
DESCRIPTION:Taught by Alan Larkin\, Professor Emeritus at Indiana University South Bend\, this three-day drawing workshop is a condensed version of the observational drawing class that Dr. Larkin taught for more than thirty years. Learn the basic skills needed to draw anything you see\, strategies to unify these skills\, and acceleration techniques to help you become faster without sacrificing accuracy\, along with exercises to strengthen your skills. Backup materials will be available to help you work on your own. A class for complete beginners\, but an eye-opening experience for seasoned artists as well. \nClass size is limited to 15 students\, so reserve your spot by calling the Brown County Art Gallery at (812) 988-4609 or sending an email to brncagal@gmail.com
URL:https://browncountyartgallery.org/event/larkin-workshop-spring2023/
LOCATION:Brown County Art Gallery\, One Artist Drive\, Nashville\, Indiana\, 47448
CATEGORIES:workshops
ATTACH;FMTTYPE=image/jpeg:https://browncountyartgallery.org/wp-content/uploads/Drawing-Bootcamp.jpg
END:VEVENT
END:VCALENDAR