BEGIN:VCALENDAR
VERSION:2.0
PRODID:-//The Historic Brown County Art Gallery · Nashville, Indiana - ECPv6.15.11//NONSGML v1.0//EN
CALSCALE:GREGORIAN
METHOD:PUBLISH
X-WR-CALNAME:The Historic Brown County Art Gallery · Nashville, Indiana
X-ORIGINAL-URL:https://browncountyartgallery.org
X-WR-CALDESC:Events for The Historic Brown County Art Gallery · Nashville, Indiana
REFRESH-INTERVAL;VALUE=DURATION:PT1H
X-Robots-Tag:noindex
X-PUBLISHED-TTL:PT1H
BEGIN:VTIMEZONE
TZID:America/Indiana/Indianapolis
BEGIN:DAYLIGHT
TZOFFSETFROM:-0500
TZOFFSETTO:-0400
TZNAME:EDT
DTSTART:20230312T070000
END:DAYLIGHT
BEGIN:STANDARD
TZOFFSETFROM:-0400
TZOFFSETTO:-0500
TZNAME:EST
DTSTART:20231105T060000
END:STANDARD
BEGIN:DAYLIGHT
TZOFFSETFROM:-0500
TZOFFSETTO:-0400
TZNAME:EDT
DTSTART:20240310T070000
END:DAYLIGHT
BEGIN:STANDARD
TZOFFSETFROM:-0400
TZOFFSETTO:-0500
TZNAME:EST
DTSTART:20241103T060000
END:STANDARD
BEGIN:DAYLIGHT
TZOFFSETFROM:-0500
TZOFFSETTO:-0400
TZNAME:EDT
DTSTART:20250309T070000
END:DAYLIGHT
BEGIN:STANDARD
TZOFFSETFROM:-0400
TZOFFSETTO:-0500
TZNAME:EST
DTSTART:20251102T060000
END:STANDARD
END:VTIMEZONE
BEGIN:VEVENT
DTSTART;TZID=America/Indiana/Indianapolis:20240402T100000
DTEND;TZID=America/Indiana/Indianapolis:20240625T140000
DTSTAMP:20260424T163725
CREATED:20240104T125842Z
LAST-MODIFIED:20240604T191253Z
UID:1174-1712052000-1719324000@browncountyartgallery.org
SUMMARY:Make Art\, Make Friends: Studio Art
DESCRIPTION:Students will learn about the art of still life. Arrange flowers\, plants\, and artifacts. Bring your own from the garden or home and then capture the moment. \nApril 2\, 4\, 9\, 11\, 16\, 18\, 23 & 25 · 10 am – 2 pm (lunch included)\nCost is $20 per monthly session with 8 classes per month \n\nJoin instructor Amanda Mathis for four months of creativity\, learning\, and fellowship for seniors 55 and older. With 8 sessions per month and 4 sessions\, each with a different theme\, there is something for every artist to explore. Enroll in all four months or choose your favorite topics. Supplies\, transportation and lunch are included. \nProgram funded by a grant from the the Indiana Arts Commission. \nCall the Gallery to register · (812) 988-4609
URL:https://browncountyartgallery.org/event/studio-art/
LOCATION:Brown County Art Gallery\, One Artist Drive\, Nashville\, Indiana\, 47448
CATEGORIES:Make Art,workshops
ATTACH;FMTTYPE=image/jpeg:https://browncountyartgallery.org/wp-content/uploads/4609-Make-Art-square-calendar.jpg
END:VEVENT
BEGIN:VEVENT
DTSTART;TZID=America/Indiana/Indianapolis:20240601T080000
DTEND;TZID=America/Indiana/Indianapolis:20240601T170000
DTSTAMP:20260424T163725
CREATED:20240319T225822Z
LAST-MODIFIED:20240604T191115Z
UID:1228-1717228800-1717261200@browncountyartgallery.org
SUMMARY:Roy Boswell Workshop: Creating Form and Depth - The 1\,2\,3 Read and More
DESCRIPTION:How would your artwork transform if you could break away from flat and boring or busy jumbled shapes\, and start creating images with form and depth? Join us on a transformative journey where you turn what was once a struggle into an asset.\nBid farewell to the limitations imposed by busy reference material and a lack of form knowledge. In this workshop\, conducted by Artist Roy Boswell\, you will acquire the skills to alter and invent form in your paintings\, understand the 1\,2\,3 read\, and build up your box logic\, empowering you to create deep and rich paintings that look like you could walk into them. This will elevate your work\nand create dynamically formed art whenever you put paint to canvas.\n𝘾𝙖𝙡𝙡 𝙩𝙝𝙚 𝙜𝙖𝙡𝙡𝙚𝙧𝙮 𝙖𝙩 (812) 988-4609 𝙊𝙍 𝙚𝙢𝙖𝙞𝙡 𝙩𝙤 brncagal@gmail.com 𝙩𝙤 𝙧𝙚𝙨𝙚𝙧𝙫𝙚 𝙮𝙤𝙪𝙧 𝙨𝙥𝙤𝙩\, 𝙖𝙨 𝙨𝙥𝙖𝙘𝙚𝙨 𝙖𝙧𝙚 𝙡𝙞𝙢𝙞𝙩𝙚𝙙.\n𝙎𝙚𝙚 𝙩𝙝𝙚 𝙨𝙪𝙥𝙥𝙡𝙮 𝙡𝙞𝙨𝙩 at  https://www.facebook.com/events/905055298015617/?active_tab=discussion.\n𝘕𝘖𝘛𝘌: 𝘛𝘩𝘦𝘳𝘦 𝘸𝘪𝘭𝘭 𝘣𝘦 𝘢 1-𝘩𝘰𝘶𝘳 𝘭𝘶𝘯𝘤𝘩 𝘱𝘦𝘳𝘪𝘰𝘥.\nCost for this workshop is $175.00\n\nGain a higher level of mastery over your creative process and bring your unique vision to life. This will help you unlock\nyour potential and take you down the next path of your artistic journey.\nBy the end of the workshop\, you will have sketches and small painting studies of these different ideas\, plus a small painting using your reference material applying what you learn about depth and form.\nBring plenty of landscape photo reference material\, printed photos would be great but from your phone or tablet will also work.
URL:https://browncountyartgallery.org/event/roy-boswell-workshop-creating-form-and-depth-the-123-read-and-more/
LOCATION:Brown County Art Gallery\, One Artist Drive\, Nashville\, Indiana\, 47448
CATEGORIES:workshops
ATTACH;FMTTYPE=image/png:https://browncountyartgallery.org/wp-content/uploads/Keep-Going-1.png
ORGANIZER;CN="The Historic Brown County Art Gallery":MAILTO:brncagal@gmail.com
END:VEVENT
BEGIN:VEVENT
DTSTART;TZID=America/Indiana/Indianapolis:20240617T090000
DTEND;TZID=America/Indiana/Indianapolis:20240628T120000
DTSTAMP:20260424T163725
CREATED:20240317T151919Z
LAST-MODIFIED:20240604T191227Z
UID:1219-1718614800-1719576000@browncountyartgallery.org
SUMMARY:Art Camp for 2nd - 5th Grade students
DESCRIPTION:This two-week session is a great opportunity for your grade school-aged children to explore their creativity\, make new friends\, and learn about different mediums and color theory. The theme for this amp is “Outer Space”\nRegistration is now open\, so contact us today to enroll your child\, as class size is limited. Call the Gallery at (812) 988-4609 to reserve a spot(s). \nSession One: 2nd -5th Grade\nJune 17th -28th\nTime: 9am – 12pm\nTheme: Outer Space \n$60 per session\nAll supplies included \nNOTE: Each camper should bring a light snack and water bottle.
URL:https://browncountyartgallery.org/event/art-camp-for-2nd-5th-grade-students/
LOCATION:Brown County Art Gallery\, One Artist Drive\, Nashville\, Indiana\, 47448
CATEGORIES:workshops
ATTACH;FMTTYPE=image/png:https://browncountyartgallery.org/wp-content/uploads/Art-Camp-2-5.png
ORGANIZER;CN="The Historic Brown County Art Gallery":MAILTO:brncagal@gmail.com
END:VEVENT
END:VCALENDAR