BEGIN:VCALENDAR
VERSION:2.0
PRODID:-//The Historic Brown County Art Gallery · Nashville, Indiana - ECPv6.15.11//NONSGML v1.0//EN
CALSCALE:GREGORIAN
METHOD:PUBLISH
X-ORIGINAL-URL:https://browncountyartgallery.org
X-WR-CALDESC:Events for The Historic Brown County Art Gallery · Nashville, Indiana
REFRESH-INTERVAL;VALUE=DURATION:PT1H
X-Robots-Tag:noindex
X-PUBLISHED-TTL:PT1H
BEGIN:VTIMEZONE
TZID:America/Indiana/Indianapolis
BEGIN:DAYLIGHT
TZOFFSETFROM:-0500
TZOFFSETTO:-0400
TZNAME:EDT
DTSTART:20230312T070000
END:DAYLIGHT
BEGIN:STANDARD
TZOFFSETFROM:-0400
TZOFFSETTO:-0500
TZNAME:EST
DTSTART:20231105T060000
END:STANDARD
BEGIN:DAYLIGHT
TZOFFSETFROM:-0500
TZOFFSETTO:-0400
TZNAME:EDT
DTSTART:20240310T070000
END:DAYLIGHT
BEGIN:STANDARD
TZOFFSETFROM:-0400
TZOFFSETTO:-0500
TZNAME:EST
DTSTART:20241103T060000
END:STANDARD
BEGIN:DAYLIGHT
TZOFFSETFROM:-0500
TZOFFSETTO:-0400
TZNAME:EDT
DTSTART:20250309T070000
END:DAYLIGHT
BEGIN:STANDARD
TZOFFSETFROM:-0400
TZOFFSETTO:-0500
TZNAME:EST
DTSTART:20251102T060000
END:STANDARD
END:VTIMEZONE
BEGIN:VEVENT
DTSTART;TZID=America/Indiana/Indianapolis:20240402T100000
DTEND;TZID=America/Indiana/Indianapolis:20240625T140000
DTSTAMP:20260424T190932
CREATED:20240104T125842Z
LAST-MODIFIED:20240604T191253Z
UID:1174-1712052000-1719324000@browncountyartgallery.org
SUMMARY:Make Art\, Make Friends: Studio Art
DESCRIPTION:Students will learn about the art of still life. Arrange flowers\, plants\, and artifacts. Bring your own from the garden or home and then capture the moment. \nApril 2\, 4\, 9\, 11\, 16\, 18\, 23 & 25 · 10 am – 2 pm (lunch included)\nCost is $20 per monthly session with 8 classes per month \n\nJoin instructor Amanda Mathis for four months of creativity\, learning\, and fellowship for seniors 55 and older. With 8 sessions per month and 4 sessions\, each with a different theme\, there is something for every artist to explore. Enroll in all four months or choose your favorite topics. Supplies\, transportation and lunch are included. \nProgram funded by a grant from the the Indiana Arts Commission. \nCall the Gallery to register · (812) 988-4609
URL:https://browncountyartgallery.org/event/studio-art/
LOCATION:Brown County Art Gallery\, One Artist Drive\, Nashville\, Indiana\, 47448
CATEGORIES:Make Art,workshops
ATTACH;FMTTYPE=image/jpeg:https://browncountyartgallery.org/wp-content/uploads/4609-Make-Art-square-calendar.jpg
END:VEVENT
BEGIN:VEVENT
DTSTART;TZID=America/Indiana/Indianapolis:20240504T080000
DTEND;TZID=America/Indiana/Indianapolis:20240504T170000
DTSTAMP:20260424T190932
CREATED:20240319T224701Z
LAST-MODIFIED:20240604T191143Z
UID:1225-1714809600-1714842000@browncountyartgallery.org
SUMMARY:Roy Boswell Workshop: Light & Shadow\, Sketch to Painting" How to Create Lighting Studies
DESCRIPTION:Waiting for perfect lighting conditions on your subject can put you out for hours if not days. We can take that struggle and\nturn it into an asset with a little knowledge of how to create lighting studies.\nYou will be able to alter and invent lighting in your paintings going forward with the ideas you pick up in this workshop conducted by Artist Roy Boswell.\n𝘾𝙖𝙡𝙡 𝙩𝙝𝙚 𝙜𝙖𝙡𝙡𝙚𝙧𝙮 𝙖𝙩 (812) 988-4609 𝙊𝙍 𝙚𝙢𝙖𝙞𝙡 𝙩𝙤 brncagal@gmail.com 𝙩𝙤 𝙧𝙚𝙨𝙚𝙧𝙫𝙚 𝙮𝙤𝙪𝙧 𝙨𝙥𝙤𝙩\, 𝙖𝙨 𝙨𝙥𝙖𝙘𝙚𝙨 𝙖𝙧𝙚 𝙡𝙞𝙢𝙞𝙩𝙚𝙙.\n𝙎𝙚𝙚 𝙩𝙝𝙚 𝙨𝙪𝙥𝙥𝙡𝙮 𝙡𝙞𝙨𝙩 at  https://www.facebook.com/events/1739146829828288/?active_tab=discussion.\n𝘕𝘖𝘛𝘌: 𝘛𝘩𝘦𝘳𝘦 𝘸𝘪𝘭𝘭 𝘣𝘦 𝘢 1-𝘩𝘰𝘶𝘳 𝘭𝘶𝘯𝘤𝘩 𝘱𝘦𝘳𝘪𝘰𝘥.\nCost for this workshop is $175.00\nWhat you see in the landscape will no longer be the highest form your work can take\, and you will be painting dramatically lit work anytime you want. You will be able to create many lighting study iterations of your reference material with a greater level of mastery over your creative process. Then we will take that and turn it into a painting.\nPrepare to take the next step with your work and put your vision onto the canvas. I look forward to seeing you and\nhelping you on your journey to tell your story through paint.\nBring plenty of landscape photo reference material\, printed photos would be great but from your phone or tablet will work as well.\nBy the end of the workshop\, you will have a strong grasp on how light works on form\, different natural and man-made lighting scenarios\, and how to apply them to your reference photos\, multiple lighting studies\, and a small painting from your lighting studies.
URL:https://browncountyartgallery.org/event/roy-boswell-workshop-light-shadow-sketch-to-painting-how-to-create-lighting-studies/
LOCATION:Brown County Art Gallery\, One Artist Drive\, Nashville\, Indiana\, 47448
CATEGORIES:workshops
ATTACH;FMTTYPE=image/png:https://browncountyartgallery.org/wp-content/uploads/Witness.png
ORGANIZER;CN="The Historic Brown County Art Gallery":MAILTO:brncagal@gmail.com
END:VEVENT
END:VCALENDAR